BEGIN:VCALENDAR
VERSION:2.0
PRODID:-//Sophrologie Jura - Sophrologie Delémont - ECPv6.15.20//NONSGML v1.0//EN
CALSCALE:GREGORIAN
METHOD:PUBLISH
X-WR-CALNAME:Sophrologie Jura - Sophrologie Delémont
X-ORIGINAL-URL:https://celinederungs.ch
X-WR-CALDESC:Évènements pour Sophrologie Jura - Sophrologie Delémont
REFRESH-INTERVAL;VALUE=DURATION:PT1H
X-Robots-Tag:noindex
X-PUBLISHED-TTL:PT1H
BEGIN:VTIMEZONE
TZID:UTC
BEGIN:STANDARD
TZOFFSETFROM:+0000
TZOFFSETTO:+0000
TZNAME:UTC
DTSTART:20250101T000000
END:STANDARD
END:VTIMEZONE
BEGIN:VEVENT
DTSTART;TZID=UTC:20260307T103000
DTEND;TZID=UTC:20260703T114500
DTSTAMP:20260422T020814
CREATED:20250610T133719Z
LAST-MODIFIED:20250630T141714Z
UID:2396-1772879400-1783079100@celinederungs.ch
SUMMARY:Sophrokids - enfants de 6P à 8P
DESCRIPTION:Des pratiques adaptées à la tranche d’âges\, sous forme de jeux\, de mouvements\, de détente pour permettre aux enfants de mieux ressentir leur corps\, de reconnaitre leurs sensations\, d’observer\, de nommer et apprivoiser leurs émotions\, d’améliorer leur concentration et de renforcer leur confiance en eux. \nA chaque cours un nouveau thème est abordé. \nPetits groupe-  6 enfants max. \n✨Les samedis \nModule 1 : 27 septembre 2025\, 25 octobre 2025\, 29 novembre 2025\, 10 janvier 2026 \nModule 2 : 7 février 2026\, 7 mars 2026\, 9 mai 2026\, 13 juin 2026 \n✨Cours 1 : de 9h00 à 10h15 – enfants de la 3P à la 5P \nCours 2 : de 10h30 – 11h45 – enfants de la 6P à la 8P \n✨Tarifs: \nun module: 80 chf; \ndeux modules: 150 chf\, \nle cours 25 chf (dans la limite des places disponibles) \n✨Informations et Inscription: contact@celinederungs.ch
URL:https://celinederungs.ch/cours/sophrokids-enfants-de-6p-a-8p-4/
LOCATION:Delémont\, Gare 1\, Gare 1\, Delémont\, Suisse
CATEGORIES:Sophrokids
ATTACH;FMTTYPE=image/png:https://celinederungs.ch/wp-content/uploads/2023/09/Sophrokids-.png
END:VEVENT
BEGIN:VEVENT
DTSTART;TZID=UTC:20260422T201500
DTEND;TZID=UTC:20260422T211500
DTSTAMP:20260422T020814
CREATED:20250610T142629Z
LAST-MODIFIED:20250610T142629Z
UID:2412-1776888900-1776892500@celinederungs.ch
SUMMARY:Groupe d'entrainement 2026- 2
DESCRIPTION:Un rendez vous régulier en petit groupe pour pratiquer la sophrologie tout en douceur. \n✨ 5 séances en ligne\, \n✨Les mercredis 22/4/2026\, 6/5/2026\, 20/5/2026\, 10/6/2026\, 24/6/2026 \n✨ de 20h15 à 21h15 \n📌Formules tarifaires \n\nModule 5 séances fixes chf-120\nCarte abo-flex  de 10 séances (valable 1 an)\, chf- 250\n\nLa carte offre la possibilité de s’inscrire uniquement aux séances choisies sur 1 an. L’inscription doit s’effectuer avant le début des modules. \n\nA la séance\, chf-30\, inscription à  /aux séances choisie(s) avant le début du module – dans la limite des places disponibles.\n\nInformations et inscriptions : contact@celinederungs.ch
URL:https://celinederungs.ch/cours/groupe-dentrainement-2026-2/
LOCATION:en ligne
CATEGORIES:en ligne,entrainement
ATTACH;FMTTYPE=image/jpeg:https://celinederungs.ch/wp-content/uploads/2024/06/cours-en-ligne.jpg
END:VEVENT
END:VCALENDAR