BEGIN:VCALENDAR
VERSION:2.0
PRODID:-//Sophrologie Jura - Sophrologie Delémont - ECPv6.15.20//NONSGML v1.0//EN
CALSCALE:GREGORIAN
METHOD:PUBLISH
X-ORIGINAL-URL:https://celinederungs.ch
X-WR-CALDESC:Évènements pour Sophrologie Jura - Sophrologie Delémont
REFRESH-INTERVAL;VALUE=DURATION:PT1H
X-Robots-Tag:noindex
X-PUBLISHED-TTL:PT1H
BEGIN:VTIMEZONE
TZID:UTC
BEGIN:STANDARD
TZOFFSETFROM:+0000
TZOFFSETTO:+0000
TZNAME:UTC
DTSTART:20250101T000000
END:STANDARD
END:VTIMEZONE
BEGIN:VEVENT
DTSTART;TZID=UTC:20260117T090000
DTEND;TZID=UTC:20260117T120000
DTSTAMP:20260420T022900
CREATED:20250822T084742Z
LAST-MODIFIED:20251205T094650Z
UID:2434-1768640400-1768651200@celinederungs.ch
SUMMARY:Alimentation consciente et équilibrée 1
DESCRIPTION:Une diététicienne et une sophrologue s’associent pour vous proposer une série de 5 ateliers pratiques et accessibles à tous\, pensés pour transformer en profondeur votre relation à l’alimentation. \nChaque atelier mêle apports théoriques et exercices pratiques pour intégrer les enseignements et les appliquer facilement dans votre quotidien. \n\n\n\nApprennez à faire des choix alimentaires équilibrés.\nAdoptez une alimentation saine sans stress\, ni privation.\nDécouvrez des outils pratiques pour manger en pleine conscience\, en respectant vos besoins.\nReconnectez-vous avec vos sensations corporelles.\n\n\n\n\nDans chaque atelier retrouvez : \n\ndes conseils pour une alimentation équilibrée\ndes astuces à mettre en place au quotidien\ndes pratiques de sophrologie adaptées\ndes discussions et partages d’expérience\n\nNe manquez pas le 1er atelier de la série\, qui répondra à une question centrale :\n👉 Quoi manger et en quelle quantité pour retrouver son poids d’équilibre\, sans frustration ? \nLe samedi 17 janvier 2026 de 9h00 à 12h00 \nTarif: 90 chf \nInscrivez-vous dès maintenant et faites le premier pas vers une alimentation sereine et durable !
URL:https://celinederungs.ch/cours/alimentation-consciente-et-equilibre/
LOCATION:Delémont\, Gare 1\, Gare 1\, Delémont\, Suisse
CATEGORIES:Alimentation
ATTACH;FMTTYPE=image/png:https://celinederungs.ch/wp-content/uploads/2025/08/Design-sans-titre.png
END:VEVENT
BEGIN:VEVENT
DTSTART;TZID=UTC:20260131T090000
DTEND;TZID=UTC:20260131T120000
DTSTAMP:20260420T022900
CREATED:20250822T085226Z
LAST-MODIFIED:20251205T125348Z
UID:2437-1769850000-1769860800@celinederungs.ch
SUMMARY:Alimentation consciente et équilibrée 2
DESCRIPTION:Une diététicienne et une sophrologue s’associent pour vous proposer une série de 5 ateliers pratiques et accessibles à tous\, pensés pour transformer en profondeur votre relation à l’alimentation. Chaque atelier mêle apports théoriques et exercices pratiques pour intégrer les enseignements et les appliquer facilement dans votre quotidien. \n\n\n\nApprennez à faire des choix alimentaires équilibrés.\nAdoptez une alimentation saine sans stress\, ni privation.\nDécouvrez des outils pratiques pour manger en pleine conscience\, en respectant vos besoins.\nReconnectez-vous avec vos sensations corporelles.\n\n\n\n\n\n\n\nDans chaque atelier retrouvez : \n\ndes conseils pour une alimentation équilibrée\ndes astuces à mettre en place au quotidien\ndes pratiques de sophrologie adaptées\ndes discussions et partages d’expérience\n\nNe manquez pas le 2ème atelier de la série\, qui répondra à une question centrale : 👉 Pourquoi mange- t- on? Il traitera des envies de manger des envies de sucre\, de l’impacte des émotrions et du stress sur l’alimentation. \nLe samedi 31 janvier 2026 de 9h00 à 12h00 \nTarif: 90 chf Inscrivez-vous dès maintenant et faites le premier pas vers une alimentation sereine et durable !
URL:https://celinederungs.ch/cours/alimentation-consciente-et-equilibre-2/
LOCATION:Delémont\, Gare 1\, Gare 1\, Delémont\, Suisse
CATEGORIES:Alimentation
ATTACH;FMTTYPE=image/png:https://celinederungs.ch/wp-content/uploads/2025/08/Design-sans-titre.png
END:VEVENT
END:VCALENDAR