BEGIN:VCALENDAR
VERSION:2.0
PRODID:-//Sophrologie Jura - Sophrologie Delémont - ECPv6.15.20//NONSGML v1.0//EN
CALSCALE:GREGORIAN
METHOD:PUBLISH
X-ORIGINAL-URL:https://celinederungs.ch
X-WR-CALDESC:Évènements pour Sophrologie Jura - Sophrologie Delémont
REFRESH-INTERVAL;VALUE=DURATION:PT1H
X-Robots-Tag:noindex
X-PUBLISHED-TTL:PT1H
BEGIN:VTIMEZONE
TZID:UTC
BEGIN:STANDARD
TZOFFSETFROM:+0000
TZOFFSETTO:+0000
TZNAME:UTC
DTSTART:20250101T000000
END:STANDARD
END:VTIMEZONE
BEGIN:VEVENT
DTSTART;TZID=UTC:20260206T200000
DTEND;TZID=UTC:20260320T213000
DTSTAMP:20260420T052410
CREATED:20260105T150535Z
LAST-MODIFIED:20260105T140342Z
UID:2230-1770408000-1774042200@celinederungs.ch
SUMMARY:Gérer la pression au quotidien
DESCRIPTION:Découvrez l’atelier gérer la pression au quotidien\, un programme pour comprendre et gérer le stress du quotidien en 6 séances. \nChaque séance comporte un petit apport théorique et des outils pratiques. 6 séances\, 6 thèmes\, 6 reflexes à vivre au quotidien pour lutter contre la fatigue physique et intellectuelle: \n\nla détente:  repérer les tensions physiques et à les relâcher\nla posture / gestuelle : gérer la fatigue prendre conscience de notre posture\, de nos gestes\nla respiration: observer notre respiration\, ce qu’elle nous enseigne\, respirer pour appaiser les tensions physiques et mentales\nla pause: rôle réparateur\, préparateur et dynamiseur de la pause\, pauser le corps et les pensées.\nla récupération: sommeil et micro sieste\nl’enthousiasme: se projeter dans le futur de façon positive.\n\nLes exercices de sophrologie sont simples et s’adressent à toutes et à tous\, ils ne nécessitent pas de tenue particulière. \n\n✨Les vendredis matins de 8h30 à 9h30\,\n06/02\, 13/03\, 27/02\, 06/03\, 13/03\, 20/03\n\n✨Avenue de la gare 1 à Delémont\n\n✨ Tarifs: 150 chf\n\n✨Informations et inscription: contact@celinederungs.ch
URL:https://celinederungs.ch/cours/gestion-de-la-pression-au-quotidien/
LOCATION:Delémont\, Gare 1\, Gare 1\, Delémont\, Suisse
CATEGORIES:Stress
ATTACH;FMTTYPE=image/jpeg:https://celinederungs.ch/wp-content/uploads/2022/05/AdobeStock_323879183-scaled.jpeg
END:VEVENT
END:VCALENDAR